BEGIN:VCALENDAR
VERSION:2.0
PRODID:-//eureos GmbH l Wir beraten persönlich//NONSGML Events//EN
CALSCALE:GREGORIAN
METHOD:PUBLISH
BEGIN:VEVENT
UID:16193@www.eureos.de
SUMMARY:Jubiläumsfeier – 10 Jahre ecf
DESCRIPTION:Ein Jahrzehnt Unternehmensberatung mit Weitblick: strategisch\, nachhaltig\, persönlich an Ihrer Seite. https://www.eureos.de/veranstaltungen/jubilaeumsfeier-10-jahre-ecf/
LOCATION:Lingnerterrassen\, Bautzener Straße 132\, 01099 Dresden
URL;VALUE=URI:https://www.eureos.de/veranstaltungen/jubilaeumsfeier-10-jahre-ecf/
DTSTART:20260826T150000Z
DTEND:20260826T200000Z
DTSTAMP:20260420T020122Z
CREATED:20260303T084136Z
ORGANIZER:eureos GmbH l Wir beraten persönlich
TRANSP:OPAQUE
BEGIN:VALARM
ACTION:DISPLAY
DESCRIPTION:Erinnerung: Jubiläumsfeier – 10 Jahre ecf
TRIGGER:-PT30M
END:VALARM
END:VEVENT
END:VCALENDAR
